BEGIN:VCALENDAR
VERSION:2.0
PRODID:-//wp-events-plugin.com//7.2.1//EN
TZID:Europe/Stockholm
X-WR-TIMEZONE:Europe/Stockholm
BEGIN:VEVENT
UID:238@fagelbrogolf.se
DTSTART;TZID=Europe/Stockholm:20250815T130000
DTEND;TZID=Europe/Stockholm:20250815T190000
DTSTAMP:20250811T085552Z
URL:https://fagelbrogolf.se/tavlingar-aktiviteter/mixed-scramble/
SUMMARY:Mixed Scramble
DESCRIPTION:Kanonstart kl. 13.00\nBollränna från 7.00 ok förutsatt att n
 i gått av banan i god tid före 13.00\, stäm av med receptionen.\n\nBoll
 ränna ok efter tävling.
ATTACH;FMTTYPE=image/jpeg:https://fagelbrogolf.se/wp-content/uploads/2025/
 07/Hal-5-3-scaled.jpg
END:VEVENT
BEGIN:VTIMEZONE
TZID:Europe/Stockholm
X-LIC-LOCATION:Europe/Stockholm
BEGIN:DAYLIGHT
DTSTART:20250330T030000
TZOFFSETFROM:+0100
TZOFFSETTO:+0200
TZNAME:CEST
END:DAYLIGHT
END:VTIMEZONE
END:VCALENDAR