BEGIN:VCALENDAR
VERSION:2.0
PRODID:-//wp-events-plugin.com//7.2.1//EN
TZID:Europe/Stockholm
X-WR-TIMEZONE:Europe/Stockholm
BEGIN:VEVENT
UID:181@fagelbrogolf.se
DTSTART;TZID=Europe/Stockholm:20240628T160000
DTEND;TZID=Europe/Stockholm:20240628T180000
DTSTAMP:20240627T093523Z
URL:https://fagelbrogolf.se/tavlingar-aktiviteter/tennis-clinic-1-med-vict
 or/
SUMMARY:Tennis Clinic 1 med Victor
DESCRIPTION:Fokus på grundslag\, spelposition och taktik/speluppbyggnad\n\
 nBoka här på Matchi\n\n&nbsp\;
ATTACH;FMTTYPE=image/jpeg:https://fagelbrogolf.se/wp-content/uploads/2024/
 05/tennisbana-scaled.jpg
END:VEVENT
BEGIN:VTIMEZONE
TZID:Europe/Stockholm
X-LIC-LOCATION:Europe/Stockholm
BEGIN:DAYLIGHT
DTSTART:20240331T030000
TZOFFSETFROM:+0100
TZOFFSETTO:+0200
TZNAME:CEST
END:DAYLIGHT
END:VTIMEZONE
END:VCALENDAR